BEGIN:VCALENDAR
VERSION:2.0
PRODID:Imitheme.com
BEGIN:VEVENT
UID:20180903T235536-1910849298
DTSTAMP:20180903T235536
DTSTART:20171225T110000Z
DTEND:20171225T160000Z
SUMMARY:Christmas Occasion Special Service ख्रीष्टमस विदा विशेष सभा
LOCATION:Kathmandu Baptist Church 'Ebenezer' Koteshwor, Kathmandu
DESCRIPTION: 
END:VEVENT
END:VCALENDAR
