BEGIN:VCALENDAR
VERSION:2.0
PRODID:Imitheme.com 
BEGIN:VEVENT
UID:20180903T2355541022273199
DTSTAMP;TZID=UTC:20180903T235554
DTSTART;TZID=UTC:20170305T170000
DTEND;TZID=UTC:20170309T100000
SUMMARY:Leaders Gathering 2017 अगुवा भेट २०७३
LOCATION:El-Elyon\, Mahadev Beshi\, Dhading\, Bagmati\, Nepal
DESCRIPTION:अगुवा भेट २०७३ यस वर्ष एल-एलियोन\, महादेव वेसी\, धादिङमा हुँदैछ। एवेनेजर तथा संगति मण्डलीहरूका अगुवाहरू तथा शिक्षकहरू\, मिसिनरीहरू आफ्ना जीवनसाथीका साथ यस कार्यक्रममा भाग लिन सक्नुहुनेछ। सहभागी हुनेहरूले पूर्व जानाकारी गराउनु हुन समेत अनुरोध गरिन्छ।
END:VEVENT
END:VCALENDAR
